BEGIN:VCALENDAR
VERSION:2.0
PRODID:-//wp-events-plugin.com//6.4.7.2//EN
BEGIN:VEVENT
UID:35@olgasurikova.com
DTSTART:20241209T193000Z
DTEND:20241209T193000Z
DTSTAMP:20241130T161951Z
URL:https://www.olgasurikova.com/index.php/events/preistraegerkonzert-des-
 bundeswettbewerbs-gesang/
SUMMARY:Preisträgerkonzert des Bundeswettbewerbs Gesang
DESCRIPTION:Ort: Staatsoper unter den Linden\, Berlin
END:VEVENT
END:VCALENDAR