BEGIN:VCALENDAR
VERSION:2.0
PRODID:-//wp-events-plugin.com//6.4.7.2//EN
BEGIN:VEVENT
UID:45@olgasurikova.com
DTSTART:20251101T100000Z
DTEND:20251101T110000Z
DTSTAMP:20251020T063625Z
URL:https://www.olgasurikova.com/index.php/events/f-j-haydn-heiligmesse-ha
 ydn/
SUMMARY:F.J. Haydn: Heiligmesse
DESCRIPTION:Wo: St. Michael München
END:VEVENT
END:VCALENDAR