BEGIN:VCALENDAR
VERSION:2.0
PRODID:-//wp-events-plugin.com//6.4.7.2//EN
BEGIN:VEVENT
UID:41@olgasurikova.com
DTSTART:20250513T190000Z
DTEND:20250513T190000Z
DTSTAMP:20250327T203059Z
URL:https://www.olgasurikova.com/index.php/events/don-giovanni-mozart/
SUMMARY:Don Giovanni - Mozart
DESCRIPTION:Rolle: Zerlina\n\nhttps://hmtm.de/veranstaltungen/musiktheater-
 im-reaktor-don-giovanni-3/
END:VEVENT
END:VCALENDAR